BEGIN:VCALENDAR
VERSION:2.0
PRODID:-//Library Market//iCal Export//EN
BEGIN:VEVENT
SUMMARY:Southwest Stitch Club
UID:25687
DTSTAMP:20260423T204900Z
DTSTART:20260602T220000Z
DTEND:20260603T000000Z
LOCATION:Southwest Branch, 9010 Ridgewood Road, Rock Island, IL 61201, Uni
 ted States
ROOM: Southwest Community Room
DESCRIPTION:Please join our new Southwest Stitch Club! This is a gathering
  of crafters of all levels and all craft interests. Simply bring along you
 r handicraft and expect to meet your neighbors. All are welcome!This is no
 t a guided class, but a social drop-in for local crafters. Advice and opin
 ions may be given freely by those in attendance, but step-by-step instruct
 ion will not be provided.
URL:https://www.rockislandlibrary.org/event/southwest-stitching-club-25687
END:VEVENT
END:VCALENDAR
