BEGIN:VCALENDAR
VERSION:2.0
PRODID:-//Library Market//iCal Export//EN
BEGIN:VEVENT
SUMMARY:OUTREACH ~ RIFAC Preschool Storytime
UID:26983
DTSTAMP:20260423T174800Z
DTSTART:20260520T144500Z
DTEND:20260520T153000Z
LOCATION:United States
ROOM: OUTREACH ~ RIFAC Preschool Storytime
DESCRIPTION:Miss Ranell will visit RIFAC preschool for storytime. 
URL:https://www.rockislandlibrary.org/event/outreach-rifac-preschool-story
 time-26983
END:VEVENT
END:VCALENDAR
