BEGIN:VCALENDAR
VERSION:2.0
PRODID:-//Library Market//iCal Export//EN
BEGIN:VEVENT
SUMMARY:Afterschool Activity @ Watts-Midtown
UID:27715
DTSTAMP:20260423T143500Z
DTSTART:20260505T203000Z
DTEND:20260505T213000Z
LOCATION:Watts-Midtown Branch, 2715 30th Street, Rock Island, IL 61201, Un
 ited States
ROOM: Watts-Midtown Community Room
DESCRIPTION:Fun activities and crafts every week Tuesdays at Watts-Midtown
  and Thursdays at Southwest!! Come for fun every week for Elementary age k
 ids (K-6)! This week we will be learning about 3D printing with 3D pens!
URL:https://www.rockislandlibrary.org/event/afternoon-activity-watts-midto
 wn-27715
END:VEVENT
END:VCALENDAR
