BEGIN:VCALENDAR
VERSION:2.0
PRODID:-//Library Market//iCal Export//EN
BEGIN:VEVENT
SUMMARY:Afterschool Activity @ Southwest
UID:27730
DTSTAMP:20260423T143500Z
DTSTART:20260514T203000Z
DTEND:20260514T213000Z
LOCATION:Southwest Branch, 9010 Ridgewood Road, Rock Island, IL 61201, Uni
 ted States
ROOM: Southwest Community Room
DESCRIPTION:Fun activities and crafts every week Tuesdays at Watts-Midtown
  and Thursdays at Southwest!! Come for fun every week for Elementary age k
 ids (K-6)! This week we will be learning about journaling as a mental hea
 lth tool!
URL:https://www.rockislandlibrary.org/event/afternoon-activity-southwest-2
 7730
END:VEVENT
END:VCALENDAR
