BEGIN:VCALENDAR
VERSION:2.0
PRODID:-//Library Market//iCal Export//EN
BEGIN:VEVENT
SUMMARY:Afterschool Activity @ Southwest
UID:27731
DTSTAMP:20260423T143500Z
DTSTART:20260521T203000Z
DTEND:20260521T213000Z
LOCATION:Southwest Branch, 9010 Ridgewood Road, Rock Island, IL 61201, Uni
 ted States
ROOM: Southwest Community Room
DESCRIPTION:Fun activities and crafts every week Tuesdays at Watts-Midtown
  and Thursdays at Southwest!! Come for fun every week for Elementary age k
 ids (K-6)! This week we will be making homemade fidget spinners from resi
 n!
URL:https://www.rockislandlibrary.org/event/afternoon-activity-southwest-2
 7731
END:VEVENT
END:VCALENDAR
