BEGIN:VCALENDAR
VERSION:2.0
PRODID:-//Library Market//iCal Export//EN
BEGIN:VEVENT
SUMMARY:Mikayla Oz
UID:27736
DTSTAMP:20260424T130400Z
DTSTART:20260618T153000Z
DTEND:20260618T163000Z
LOCATION:Watts-Midtown Branch, 2715 30th Street, Rock Island, IL 61201, Un
 ited States
ROOM: Watts-Midtown Community Room
DESCRIPTION:This summer, get ready for a magic show that feels like steppi
 ng into a real-life cartoon! Kids will be wide-eyed with excitement, paren
 ts will be entertained, and everyone will be talking about this unforgetta
 ble Magic Show with Mikayla Oz. Mikayla Oz is one of the most in-demand fa
 mily entertainers in the Midwest. Known for her iconic blue star dress, la
 rger-than-life personality, and high-energy magical performances, Mikayla 
 creates a show where kids become the stars. Joined by her amazing magic as
 sistant, Bubbles the Bird, she delivers a fast-paced, interactive magic ex
 perience full of surprises, laughs, and jaw-dropping moments.
URL:https://www.rockislandlibrary.org/event/mikayla-oz-27736
END:VEVENT
END:VCALENDAR
