BEGIN:VCALENDAR
VERSION:2.0
PRODID:-//Library Market//iCal Export//EN
BEGIN:VEVENT
SUMMARY:Rockin and Reading with Leonardo
UID:27769
DTSTAMP:20260423T154600Z
DTSTART:20260720T153000Z
DTEND:20260720T163000Z
LOCATION:Downtown Library, 401 19th Street, Rock Island, IL 61201, United 
 States
ROOM: Downtown Community Room
DESCRIPTION:Bring your dancing shoes and best air guitar moves it&#039;s t
 ime to go ROCKIN&#039; with LEONARDO. He performs a humorous high energy c
 oncert that entertains, educates, and empowers all little rockers. Get rea
 dy to sing along to familiar hits and some movin&#039; and groovin&#039;.
URL:https://www.rockislandlibrary.org/event/rockin-and-reading-leonardo-27
 769
END:VEVENT
END:VCALENDAR
