BEGIN:VCALENDAR
VERSION:2.0
PRODID:-//Library Market//iCal Export//EN
BEGIN:VEVENT
SUMMARY:Quad City Plant Discovery Bus Session #1
UID:28121
DTSTAMP:20260423T142300Z
DTSTART:20260625T153000Z
DTEND:20260625T160000Z
LOCATION:United States
ROOM: Quad City Plant Discovery Bus Session #1
DESCRIPTION:The Quad City Botanical Center Plant Discovery Bus will be in 
 the Mel McKay parking lot directly across the street from the Southwest Br
 anch.  We will board the bus and receive a hands-on, immersive learning e
 xperience about plants and gardening. For ages 3 - 12 years old. EACH CH
 ILD ATTENDING MUST BE REGISTERED INDIVIDUALLY.  
URL:https://www.rockislandlibrary.org/event/quad-city-botanical-center-dis
 covery-bus-28121
END:VEVENT
END:VCALENDAR
