BEGIN:VCALENDAR
VERSION:2.0
PRODID:-//Library Market//iCal Export//EN
BEGIN:VEVENT
SUMMARY:NOT Creepy Crawlies
UID:28180
DTSTAMP:20260423T143500Z
DTSTART:20260608T153000Z
DTEND:20260608T163000Z
LOCATION:Downtown Library, 401 19th Street, Rock Island, IL 61201, United 
 States
ROOM: Downtown Community Room
DESCRIPTION:National Missippi River Museum &amp; Aquarium will present a p
 rogram on the importance of bugs in our ecosystem.  We will meet beetles,
  roaches, and tarantulas.  Leave your fear at home and join us at the lib
 rary!  
URL:https://www.rockislandlibrary.org/event/not-creepy-crawlies-28180
END:VEVENT
END:VCALENDAR
