BEGIN:VCALENDAR
VERSION:2.0
PRODID:-//Library Market//iCal Export//EN
BEGIN:VEVENT
SUMMARY:NOT Creepy Crawlies
UID:28181
DTSTAMP:20260423T174800Z
DTSTART:20260608T180000Z
DTEND:20260608T190000Z
LOCATION:Southwest Branch, 9010 Ridgewood Road, Rock Island, IL 61201, Uni
 ted States
ROOM: Southwest Community Room
DESCRIPTION:National Missippi River Museum &amp; Aquarium will present a p
 rogram on the importance of bugs in our ecosystem.  We will meet beetles,
  roaches, and tarantulas.  Leave your fear at home and join us at the lib
 rary!  
URL:https://www.rockislandlibrary.org/event/not-creepy-crawlies-28181
END:VEVENT
END:VCALENDAR
