BEGIN:VCALENDAR
VERSION:2.0
PRODID:-//Library Market//iCal Export//EN
BEGIN:VEVENT
SUMMARY:Prairie State Legal Services Criminal Records Relief Clinic
UID:28313
DTSTAMP:20260420T014900Z
DTSTART:20260715T150000Z
DTEND:20260715T210000Z
LOCATION:Downtown Library, 401 19th Street, Rock Island, IL 61201, United 
 States
ROOM: Downtown Community Room
DESCRIPTION:Registration required: see below.Public Interest Law Initiativ
 e and Prairie State Legal Services are hosting this clinic to assist low-i
 ncome residents of Rock Island, Henry, Mercer, and Whiteside Counties seek
 ing to expunge or seal their criminal record. Volunteer attorneys will con
 sult with you on your available options, prepare the documents to request 
 an expungement or sealing of your eligible records, and provide guidance o
 n the process.Clients must meet financial eligibility requirements.Assista
 nce is free, but registration is required. Click here to register. Ensure 
 you complete the form and follow all instructions, as registration slots a
 re limited. Please direct any questions to clinics@pslegal.org.
URL:https://www.rockislandlibrary.org/event/prairie-state-legal-service-ex
 pungement-clinic-28313
END:VEVENT
END:VCALENDAR
