BEGIN:VCALENDAR
VERSION:2.0
PRODID:-//Library Market//iCal Export//EN
BEGIN:VEVENT
SUMMARY:Shadowland Serpentry
UID:28398
DTSTAMP:20260423T191200Z
DTSTART:20260710T180000Z
DTEND:20260710T190000Z
LOCATION:Southwest Branch, 9010 Ridgewood Road, Rock Island, IL 61201, Uni
 ted States
ROOM: Southwest Community Room
DESCRIPTION:Don&#039;t be afraid!  Snakes and their reptile friends play 
 an important part in our world.  Jonathan and Paulina will bring 8-10 of 
 thier incredible reptiles for an up-close, interactive encounter.  From s
 lithering snakes to curious lizards, their animals will provide an unforge
 ttable hands-on experience while they share fun facts and fascinating stor
 ies. 
URL:https://www.rockislandlibrary.org/event/shadowland-serpentry-28398
END:VEVENT
END:VCALENDAR
