BEGIN:VCALENDAR
VERSION:2.0
PRODID:-//Library Market//iCal Export//EN
BEGIN:VEVENT
SUMMARY:OUTREACH ~ RIFAC Preschool Storytime
UID:28399
DTSTAMP:20260423T173500Z
DTSTART:20260713T150000Z
DTEND:20260714T040000Z
LOCATION:United States
ROOM: OUTREACH ~ RIFAC Preschool Storytime
DESCRIPTION:Miss Ranell will visit RIFAC preschool for storytime. 
URL:https://www.rockislandlibrary.org/event/outreach-rifac-preschool-story
 time-28399
END:VEVENT
END:VCALENDAR
