BEGIN:VCALENDAR
VERSION:2.0
PRODID:-//Library Market//iCal Export//EN
BEGIN:VEVENT
SUMMARY:Voter Registion
UID:28413
DTSTAMP:20260424T192900Z
DTSTART:20260424T150000Z
DTEND:20260424T180000Z
LOCATION:Downtown Library, 401 19th Street, Rock Island, IL 61201, United 
 States
ROOM: Downtown Collaboration Area
DESCRIPTION:A voter registration table will be available in the rotunda (2
 nd floor collaboration area) during the book sale. 
URL:https://www.rockislandlibrary.org/event/voters-registion-28413
END:VEVENT
END:VCALENDAR
